BEGIN:VCALENDAR
VERSION:2.0
PRODID:-//Briarbank Bar and Brewery - ECPv6.8.1//NONSGML v1.0//EN
CALSCALE:GREGORIAN
METHOD:PUBLISH
X-ORIGINAL-URL:https://briarbank.org
X-WR-CALDESC:Events for Briarbank Bar and Brewery
REFRESH-INTERVAL;VALUE=DURATION:PT1H
X-Robots-Tag:noindex
X-PUBLISHED-TTL:PT1H
BEGIN:VTIMEZONE
TZID:Europe/London
BEGIN:DAYLIGHT
TZOFFSETFROM:+0000
TZOFFSETTO:+0100
TZNAME:BST
DTSTART:20240331T010000
END:DAYLIGHT
BEGIN:STANDARD
TZOFFSETFROM:+0100
TZOFFSETTO:+0000
TZNAME:GMT
DTSTART:20241027T010000
END:STANDARD
END:VTIMEZONE
BEGIN:VEVENT
DTSTART;TZID=Europe/London:20240607T203000
DTEND;TZID=Europe/London:20240607T230000
DTSTAMP:20260425T130718
CREATED:20240201T141313Z
LAST-MODIFIED:20240522T105740Z
UID:10000439-1717792200-1717801200@briarbank.org
SUMMARY:Back Porch
DESCRIPTION:Back Porch is back at the Briarbank in June and we can’t wait. Join us on Friday 7 June\, at 8.30pm as this four-piece semi-acoustic band entertain us with a happy take on the blues. \n\n\n\n\n\n\n\n\n\n 
URL:https://briarbank.org/event/back-porch-2024/
LOCATION:Briarbank Brewery\, 70 Fore Street\, Ipswich\, Suffolk\, IP4 1LB\, United Kingdom
CATEGORIES:Live Music
ATTACH;FMTTYPE=image/jpeg:https://briarbank.org/wp-content/uploads/2024/02/Back-Porch-scaled.jpg
GEO:52.0532934;1.1608373
X-APPLE-STRUCTURED-LOCATION;VALUE=URI;X-ADDRESS=Briarbank Brewery 70 Fore Street Ipswich Suffolk IP4 1LB United Kingdom;X-APPLE-RADIUS=500;X-TITLE=70 Fore Street:geo:1.1608373,52.0532934
END:VEVENT
BEGIN:VEVENT
DTSTART;TZID=Europe/London:20240610T133000
DTEND;TZID=Europe/London:20240610T163000
DTSTAMP:20260425T130718
CREATED:20220314T150021Z
LAST-MODIFIED:20220314T150021Z
UID:10000336-1718026200-1718037000@briarbank.org
SUMMARY:John Parker Sunday Jazz
DESCRIPTION:Join us for our monthly offering live jazz hosted by John Parker and his special guests each month. This month we will be joined by Nigel Virley [keyboards] Alan Clarke (Drums) Bernie Hodgkins (bass)
URL:https://briarbank.org/event/john-parker-sunday-jazz/2024-06-10/
LOCATION:Briarbank Brewery\, 70 Fore Street\, Ipswich\, Suffolk\, IP4 1LB\, United Kingdom
CATEGORIES:Sunday Jazz
ATTACH;FMTTYPE=image/jpeg:https://briarbank.org/wp-content/uploads/2020/01/Keyboard-jazz.jpg
GEO:52.0532934;1.1608373
X-APPLE-STRUCTURED-LOCATION;VALUE=URI;X-ADDRESS=Briarbank Brewery 70 Fore Street Ipswich Suffolk IP4 1LB United Kingdom;X-APPLE-RADIUS=500;X-TITLE=70 Fore Street:geo:1.1608373,52.0532934
END:VEVENT
BEGIN:VEVENT
DTSTART;TZID=Europe/London:20240614T203000
DTEND;TZID=Europe/London:20240614T230000
DTSTAMP:20260425T130718
CREATED:20240201T142048Z
LAST-MODIFIED:20240308T123153Z
UID:10000440-1718397000-1718406000@briarbank.org
SUMMARY:What Went Wrong
DESCRIPTION:The fantastic What Went Wrong\, a punk / rock / pop covers band\, will be with us on Friday\, 14 June\, playing some great live music. Join us from 8:30pm. Entry is free! \n\n\n\n\n\n\n\n\n\n 
URL:https://briarbank.org/event/almost-original-2024/
LOCATION:Briarbank Brewery\, 70 Fore Street\, Ipswich\, Suffolk\, IP4 1LB\, United Kingdom
CATEGORIES:Live Music,Seasonal
ATTACH;FMTTYPE=image/jpeg:https://briarbank.org/wp-content/uploads/2023/03/Almost-Original.jpg
GEO:52.0532934;1.1608373
X-APPLE-STRUCTURED-LOCATION;VALUE=URI;X-ADDRESS=Briarbank Brewery 70 Fore Street Ipswich Suffolk IP4 1LB United Kingdom;X-APPLE-RADIUS=500;X-TITLE=70 Fore Street:geo:1.1608373,52.0532934
END:VEVENT
BEGIN:VEVENT
DTSTART;TZID=Europe/London:20240616T133000
DTEND;TZID=Europe/London:20240616T163000
DTSTAMP:20260425T130718
CREATED:20240201T142923Z
LAST-MODIFIED:20240520T112218Z
UID:10000441-1718544600-1718555400@briarbank.org
SUMMARY:June Sunday Jazz
DESCRIPTION:A very special line up featuring two trombones Derek Clenshaw and Gary Davison both seasoned players. Going out a few years ago as part of Anglian trombones a program of fine swinging jazz is guaranteed. Derek is mainly self taught and has played prolifically in the Cambridge area for many band as has Gary. Alan Clarke on drums with Bernie once again on bass what’s not to like. \n         \n\n\n\n\n\n\n\n\n\n 
URL:https://briarbank.org/event/june-sunday-jazz-2024/
LOCATION:Briarbank Brewery\, 70 Fore Street\, Ipswich\, Suffolk\, IP4 1LB\, United Kingdom
CATEGORIES:Live Music,Sunday Jazz
ATTACH;FMTTYPE=image/jpeg:https://briarbank.org/wp-content/uploads/2022/09/JazzTrumpet.jpg
GEO:52.0532934;1.1608373
X-APPLE-STRUCTURED-LOCATION;VALUE=URI;X-ADDRESS=Briarbank Brewery 70 Fore Street Ipswich Suffolk IP4 1LB United Kingdom;X-APPLE-RADIUS=500;X-TITLE=70 Fore Street:geo:1.1608373,52.0532934
END:VEVENT
BEGIN:VEVENT
DTSTART;TZID=Europe/London:20240621T203000
DTEND;TZID=Europe/London:20240621T230000
DTSTAMP:20260425T130718
CREATED:20240201T144800Z
LAST-MODIFIED:20240522T105654Z
UID:10000442-1719001800-1719010800@briarbank.org
SUMMARY:JDS Acoustic
DESCRIPTION:Playing everything from 50s classics to modern day – join us for a fun-filled evening of live music from JDS Acoustic.Image credit: Liam Gillan \n\n\n\n\n\n\n\n\n\n 
URL:https://briarbank.org/event/jds-acoustic-band-2024/
LOCATION:Briarbank Brewery\, 70 Fore Street\, Ipswich\, Suffolk\, IP4 1LB\, United Kingdom
CATEGORIES:Live Music
ATTACH;FMTTYPE=image/jpeg:https://briarbank.org/wp-content/uploads/2024/02/JDS.jpg
GEO:52.0532934;1.1608373
X-APPLE-STRUCTURED-LOCATION;VALUE=URI;X-ADDRESS=Briarbank Brewery 70 Fore Street Ipswich Suffolk IP4 1LB United Kingdom;X-APPLE-RADIUS=500;X-TITLE=70 Fore Street:geo:1.1608373,52.0532934
END:VEVENT
BEGIN:VEVENT
DTSTART;TZID=Europe/London:20240628T203000
DTEND;TZID=Europe/London:20240628T230000
DTSTAMP:20260425T130718
CREATED:20240201T145320Z
LAST-MODIFIED:20240522T105857Z
UID:10000443-1719606600-1719615600@briarbank.org
SUMMARY:Undercover
DESCRIPTION:Rounding off Junes live music we have Undercover\, to keep us rocking out all Friday night. \n\n\n\n\n\n\n\n\n\n 
URL:https://briarbank.org/event/undercover-2024/
LOCATION:Briarbank Brewery\, 70 Fore Street\, Ipswich\, Suffolk\, IP4 1LB\, United Kingdom
CATEGORIES:Live Music
ATTACH;FMTTYPE=image/jpeg:https://briarbank.org/wp-content/uploads/2024/02/Undercover-2024.jpg
GEO:52.0532934;1.1608373
X-APPLE-STRUCTURED-LOCATION;VALUE=URI;X-ADDRESS=Briarbank Brewery 70 Fore Street Ipswich Suffolk IP4 1LB United Kingdom;X-APPLE-RADIUS=500;X-TITLE=70 Fore Street:geo:1.1608373,52.0532934
END:VEVENT
END:VCALENDAR