BEGIN:VCALENDAR
VERSION:2.0
PRODID:-//Briarbank Bar and Brewery - ECPv6.8.1//NONSGML v1.0//EN
CALSCALE:GREGORIAN
METHOD:PUBLISH
X-ORIGINAL-URL:https://briarbank.org
X-WR-CALDESC:Events for Briarbank Bar and Brewery
REFRESH-INTERVAL;VALUE=DURATION:PT1H
X-Robots-Tag:noindex
X-PUBLISHED-TTL:PT1H
BEGIN:VTIMEZONE
TZID:Europe/London
BEGIN:DAYLIGHT
TZOFFSETFROM:+0000
TZOFFSETTO:+0100
TZNAME:BST
DTSTART:20240331T010000
END:DAYLIGHT
BEGIN:STANDARD
TZOFFSETFROM:+0100
TZOFFSETTO:+0000
TZNAME:GMT
DTSTART:20241027T010000
END:STANDARD
END:VTIMEZONE
BEGIN:VEVENT
DTSTART;TZID=Europe/London:20240501T170000
DTEND;TZID=Europe/London:20240506T220000
DTSTAMP:20260425T144322
CREATED:20240304T204727Z
LAST-MODIFIED:20240304T204727Z
UID:10000460-1714582800-1715032800@briarbank.org
SUMMARY:2024 Spring Beer Festival
DESCRIPTION:Back for 2024 is our Spring Beer Festival and we can’t wait.Taking place at the Briarbank between Wednesday 1 May and Monday 6 May 2024\, we’ll be showcasing over 40+ beers and ciders from local and not so local breweries.They will\, of course\, be live music throughout the weekend. Joining us will be: \n\nFriday 3 May: 8pm – Oldskool\nSaturday 4 May: 8pm – Funkshed\nSunday 5 May: 8pm – Electric Velvet Club\n\nOur upstairs tap room will also be serving a range of other drinks\, including soft drinks\, wines and spirits. Plus\, if you’re feeling peckish\, you’ll be able to order from our food menu until 9pm. So\, why not pop the dates in your diary\, gather your friends and come and join us for our Spring Beer Festival? 
URL:https://briarbank.org/event/2024-spring-beer-festival/
LOCATION:Briarbank Brewery\, 70 Fore Street\, Ipswich\, Suffolk\, IP4 1LB\, United Kingdom
CATEGORIES:General
ATTACH;FMTTYPE=image/jpeg:https://briarbank.org/wp-content/uploads/2024/03/Briarbank-Spring-Beer-Festival.jpg
GEO:52.0532934;1.1608373
X-APPLE-STRUCTURED-LOCATION;VALUE=URI;X-ADDRESS=Briarbank Brewery 70 Fore Street Ipswich Suffolk IP4 1LB United Kingdom;X-APPLE-RADIUS=500;X-TITLE=70 Fore Street:geo:1.1608373,52.0532934
END:VEVENT
BEGIN:VEVENT
DTSTART;TZID=Europe/London:20240503T200000
DTEND;TZID=Europe/London:20240503T230000
DTSTAMP:20260425T144322
CREATED:20240201T114501Z
LAST-MODIFIED:20240304T220633Z
UID:10000430-1714766400-1714777200@briarbank.org
SUMMARY:Old Skool
DESCRIPTION:Old Skool join us for an unforgettable night of music!
URL:https://briarbank.org/event/old-skool-2024/
LOCATION:Briarbank Brewery\, 70 Fore Street\, Ipswich\, Suffolk\, IP4 1LB\, United Kingdom
CATEGORIES:Live Music
ATTACH;FMTTYPE=image/jpeg:https://briarbank.org/wp-content/uploads/2024/02/Live_Music_microphone-scaled-1.jpg
GEO:52.0532934;1.1608373
X-APPLE-STRUCTURED-LOCATION;VALUE=URI;X-ADDRESS=Briarbank Brewery 70 Fore Street Ipswich Suffolk IP4 1LB United Kingdom;X-APPLE-RADIUS=500;X-TITLE=70 Fore Street:geo:1.1608373,52.0532934
END:VEVENT
BEGIN:VEVENT
DTSTART;TZID=Europe/London:20240504T200000
DTEND;TZID=Europe/London:20240504T230000
DTSTAMP:20260425T144322
CREATED:20240201T115134Z
LAST-MODIFIED:20240201T115134Z
UID:10000431-1714852800-1714863600@briarbank.org
SUMMARY:Funkshed
DESCRIPTION:Saturday of the Briarbank Spring Beer Festival sees Funk Shed bringing an evening of funk\, soul and groove.
URL:https://briarbank.org/event/funkshed-2024/
LOCATION:Briarbank Brewery\, 70 Fore Street\, Ipswich\, Suffolk\, IP4 1LB\, United Kingdom
CATEGORIES:Live Music
ATTACH;FMTTYPE=image/jpeg:https://briarbank.org/wp-content/uploads/2024/02/Live_Music_microphone-scaled-1.jpg
GEO:52.0532934;1.1608373
X-APPLE-STRUCTURED-LOCATION;VALUE=URI;X-ADDRESS=Briarbank Brewery 70 Fore Street Ipswich Suffolk IP4 1LB United Kingdom;X-APPLE-RADIUS=500;X-TITLE=70 Fore Street:geo:1.1608373,52.0532934
END:VEVENT
BEGIN:VEVENT
DTSTART;TZID=Europe/London:20240504T200000
DTEND;TZID=Europe/London:20240504T230000
DTSTAMP:20260425T144322
CREATED:20250205T105452Z
LAST-MODIFIED:20250304T110642Z
UID:10000540-1714852800-1714863600@briarbank.org
SUMMARY:Funk Shed
DESCRIPTION:Saturday of the Briarbank Spring Beer Festival sees Funk Shed bringing an evening of funk\, soul and groove.
URL:https://briarbank.org/event/funk-shed/
LOCATION:Briarbank Brewery\, 70 Fore Street\, Ipswich\, Suffolk\, IP4 1LB\, United Kingdom
CATEGORIES:Live Music
ATTACH;FMTTYPE=image/jpeg:https://briarbank.org/wp-content/uploads/2025/02/Funk-Shed.jpg
GEO:52.0532934;1.1608373
X-APPLE-STRUCTURED-LOCATION;VALUE=URI;X-ADDRESS=Briarbank Brewery 70 Fore Street Ipswich Suffolk IP4 1LB United Kingdom;X-APPLE-RADIUS=500;X-TITLE=70 Fore Street:geo:1.1608373,52.0532934
END:VEVENT
BEGIN:VEVENT
DTSTART;TZID=Europe/London:20240505T200000
DTEND;TZID=Europe/London:20240505T220000
DTSTAMP:20260425T144322
CREATED:20240201T115554Z
LAST-MODIFIED:20240201T115554Z
UID:10000432-1714939200-1714946400@briarbank.org
SUMMARY:Electric Velvet Club
DESCRIPTION:Join us on the Sunday of our Spring Beer Festival as this four-piece Ipswich covers band play songs from the 00s and 90s. Don’t forget\, entry is free. \n\n\n\n\n\n\n\n\n\n 
URL:https://briarbank.org/event/electric-velvet-club-2024/
LOCATION:Briarbank Brewery\, 70 Fore Street\, Ipswich\, Suffolk\, IP4 1LB\, United Kingdom
CATEGORIES:Live Music
ATTACH;FMTTYPE=image/jpeg:https://briarbank.org/wp-content/uploads/2022/05/Live_Music_microphone-scaled.jpg
GEO:52.0532934;1.1608373
X-APPLE-STRUCTURED-LOCATION;VALUE=URI;X-ADDRESS=Briarbank Brewery 70 Fore Street Ipswich Suffolk IP4 1LB United Kingdom;X-APPLE-RADIUS=500;X-TITLE=70 Fore Street:geo:1.1608373,52.0532934
END:VEVENT
BEGIN:VEVENT
DTSTART;TZID=Europe/London:20240510T133000
DTEND;TZID=Europe/London:20240510T163000
DTSTAMP:20260425T144322
CREATED:20220314T150021Z
LAST-MODIFIED:20220314T150021Z
UID:10000335-1715347800-1715358600@briarbank.org
SUMMARY:John Parker Sunday Jazz
DESCRIPTION:Join us for our monthly offering live jazz hosted by John Parker and his special guests each month. This month we will be joined by Nigel Virley [keyboards] Alan Clarke (Drums) Bernie Hodgkins (bass)
URL:https://briarbank.org/event/john-parker-sunday-jazz/2024-05-10/
LOCATION:Briarbank Brewery\, 70 Fore Street\, Ipswich\, Suffolk\, IP4 1LB\, United Kingdom
CATEGORIES:Sunday Jazz
ATTACH;FMTTYPE=image/jpeg:https://briarbank.org/wp-content/uploads/2020/01/Keyboard-jazz.jpg
GEO:52.0532934;1.1608373
X-APPLE-STRUCTURED-LOCATION;VALUE=URI;X-ADDRESS=Briarbank Brewery 70 Fore Street Ipswich Suffolk IP4 1LB United Kingdom;X-APPLE-RADIUS=500;X-TITLE=70 Fore Street:geo:1.1608373,52.0532934
END:VEVENT
BEGIN:VEVENT
DTSTART;TZID=Europe/London:20240517T200000
DTEND;TZID=Europe/London:20240517T230000
DTSTAMP:20260425T144322
CREATED:20240201T124535Z
LAST-MODIFIED:20240304T215822Z
UID:10000433-1715976000-1715986800@briarbank.org
SUMMARY:The Frestonians
DESCRIPTION:Local band\, The Frestonians rock the Briarbank for the first time\, playing their upbeat mix of original rock songs and covers.  
URL:https://briarbank.org/event/the-frestonians-2024/
LOCATION:Briarbank Brewery\, 70 Fore Street\, Ipswich\, Suffolk\, IP4 1LB\, United Kingdom
CATEGORIES:Live Music
ATTACH;FMTTYPE=image/jpeg:https://briarbank.org/wp-content/uploads/2024/02/Frestonians-scaled.jpg
GEO:52.0532934;1.1608373
X-APPLE-STRUCTURED-LOCATION;VALUE=URI;X-ADDRESS=Briarbank Brewery 70 Fore Street Ipswich Suffolk IP4 1LB United Kingdom;X-APPLE-RADIUS=500;X-TITLE=70 Fore Street:geo:1.1608373,52.0532934
END:VEVENT
BEGIN:VEVENT
DTSTART;TZID=Europe/London:20240519T133000
DTEND;TZID=Europe/London:20240519T163000
DTSTAMP:20260425T144322
CREATED:20240201T130810Z
LAST-MODIFIED:20240201T130810Z
UID:10000434-1716125400-1716136200@briarbank.org
SUMMARY:May Sunday Jazz
DESCRIPTION:Simon Hurley will be doing some holiday cover in May and will be bringing a band of high fliers to entertain you. Quality is both assured and paramount.              \n\n\n\n\n\n\n\n\n\n 
URL:https://briarbank.org/event/may-sunday-jazz-2024/
LOCATION:Briarbank Brewery\, 70 Fore Street\, Ipswich\, Suffolk\, IP4 1LB\, United Kingdom
CATEGORIES:Live Music,Sunday Jazz
ATTACH;FMTTYPE=image/jpeg:https://briarbank.org/wp-content/uploads/2019/10/guitar_p60.jpg
GEO:52.0532934;1.1608373
X-APPLE-STRUCTURED-LOCATION;VALUE=URI;X-ADDRESS=Briarbank Brewery 70 Fore Street Ipswich Suffolk IP4 1LB United Kingdom;X-APPLE-RADIUS=500;X-TITLE=70 Fore Street:geo:1.1608373,52.0532934
END:VEVENT
BEGIN:VEVENT
DTSTART;TZID=Europe/London:20240522T170000
DTEND;TZID=Europe/London:20240527T220000
DTSTAMP:20260425T144322
CREATED:20240319T143635Z
LAST-MODIFIED:20240319T143635Z
UID:10000461-1716397200-1716847200@briarbank.org
SUMMARY:May Gin and Rum Festival
DESCRIPTION:Back for 2024 is our Gin and Rum Festival. \nKicking off on Wednesday 22 May\, we’ll be showcasing over 40+ gins and rums in our outside bar\, and have live music throughout the weekend too. \nJoining us will be: \n\nFriday 24 May: 8:30pm – Skyraiders\nSaturday 25 May: 8:30pm – The Super Things\nSunday 26 May: 8:30pm – Lucky No7\n\nDon’t forget\, our upstairs tap room will be open\, serving our usual array of craft beers\, wines\, spirits and soft drinks. \nSo\, why not note the dates\, gather your friends and join us for our first Gin and Rum Festival of 2024?
URL:https://briarbank.org/event/may-gin-and-rum-festival/
LOCATION:Briarbank Brewery\, 70 Fore Street\, Ipswich\, Suffolk\, IP4 1LB\, United Kingdom
CATEGORIES:General,Live Music,Seasonal
ATTACH;FMTTYPE=image/jpeg:https://briarbank.org/wp-content/uploads/2024/03/Briarbank-Gin-Rum-Festival_May.jpg
GEO:52.0532934;1.1608373
X-APPLE-STRUCTURED-LOCATION;VALUE=URI;X-ADDRESS=Briarbank Brewery 70 Fore Street Ipswich Suffolk IP4 1LB United Kingdom;X-APPLE-RADIUS=500;X-TITLE=70 Fore Street:geo:1.1608373,52.0532934
END:VEVENT
BEGIN:VEVENT
DTSTART;TZID=Europe/London:20240524T203000
DTEND;TZID=Europe/London:20240524T203000
DTSTAMP:20260425T144322
CREATED:20240201T131240Z
LAST-MODIFIED:20240319T144002Z
UID:10000435-1716582600-1716582600@briarbank.org
SUMMARY:Skyraiders
DESCRIPTION:Skyraiders will be with us on Friday 24 May as part of our Gin and Rum Festival live music. Join us at 8:30pm and enjoy an evening of rock and indie covers. \n\n\n\n\n\n\n\n\n\n 
URL:https://briarbank.org/event/skyraiders-2024/
LOCATION:Briarbank Brewery\, 70 Fore Street\, Ipswich\, Suffolk\, IP4 1LB\, United Kingdom
CATEGORIES:Live Music
ATTACH;FMTTYPE=image/jpeg:https://briarbank.org/wp-content/uploads/2023/04/Skyriders.jpg
GEO:52.0532934;1.1608373
X-APPLE-STRUCTURED-LOCATION;VALUE=URI;X-ADDRESS=Briarbank Brewery 70 Fore Street Ipswich Suffolk IP4 1LB United Kingdom;X-APPLE-RADIUS=500;X-TITLE=70 Fore Street:geo:1.1608373,52.0532934
END:VEVENT
BEGIN:VEVENT
DTSTART;TZID=Europe/London:20240525T203000
DTEND;TZID=Europe/London:20240525T230000
DTSTAMP:20260425T144322
CREATED:20240201T133909Z
LAST-MODIFIED:20240522T110242Z
UID:10000436-1716669000-1716678000@briarbank.org
SUMMARY:The Super Things
DESCRIPTION:Continuing the live music for our Gin and Rum Festival is The Super Things on Friday 25 May. Join us for an evening of pop\, rock\, funk\, soul and a little bit of disco. \n\n\n\n\n\n\n\n\n\n 
URL:https://briarbank.org/event/the-super-things-2024/
LOCATION:Suffolk
CATEGORIES:Live Music
ATTACH;FMTTYPE=image/jpeg:https://briarbank.org/wp-content/uploads/2023/07/the_super_things_6x4_p60-1000x540-1.jpg
END:VEVENT
BEGIN:VEVENT
DTSTART;TZID=Europe/London:20240526T193000
DTEND;TZID=Europe/London:20240526T223000
DTSTAMP:20260425T144322
CREATED:20240201T140152Z
LAST-MODIFIED:20240522T110031Z
UID:10000437-1716751800-1716762600@briarbank.org
SUMMARY:Lucky No7
DESCRIPTION:Rounding off our live music of the weekend\, Lucky No.7 Join us for an evening of non-stop rock and roll action. Entry is free! \n\n\n\n\n\n\n\n\n\n 
URL:https://briarbank.org/event/lucky-no7-2024/
LOCATION:Briarbank Brewery\, 70 Fore Street\, Ipswich\, Suffolk\, IP4 1LB\, United Kingdom
CATEGORIES:Live Music
ATTACH;FMTTYPE=image/png:https://briarbank.org/wp-content/uploads/2024/02/DirtyStackTour-2024-banner.png
GEO:52.0532934;1.1608373
X-APPLE-STRUCTURED-LOCATION;VALUE=URI;X-ADDRESS=Briarbank Brewery 70 Fore Street Ipswich Suffolk IP4 1LB United Kingdom;X-APPLE-RADIUS=500;X-TITLE=70 Fore Street:geo:1.1608373,52.0532934
END:VEVENT
BEGIN:VEVENT
DTSTART;TZID=Europe/London:20240531T203000
DTEND;TZID=Europe/London:20240531T230000
DTSTAMP:20260425T144322
CREATED:20240201T140956Z
LAST-MODIFIED:20240201T140956Z
UID:10000438-1717187400-1717196400@briarbank.org
SUMMARY:Outnumbered
DESCRIPTION:Join us this Friday 31 May to round off a fantastic May packed with live music\, with Outnumbered treating us to a range of light rock covers. \n\n\n\n\n\n\n\n\n\n 
URL:https://briarbank.org/event/outnumbered-2024/
LOCATION:Briarbank Brewery\, 70 Fore Street\, Ipswich\, Suffolk\, IP4 1LB\, United Kingdom
CATEGORIES:Live Music
ATTACH;FMTTYPE=image/jpeg:https://briarbank.org/wp-content/uploads/2024/02/Live_Music_microphone-scaled-1.jpg
GEO:52.0532934;1.1608373
X-APPLE-STRUCTURED-LOCATION;VALUE=URI;X-ADDRESS=Briarbank Brewery 70 Fore Street Ipswich Suffolk IP4 1LB United Kingdom;X-APPLE-RADIUS=500;X-TITLE=70 Fore Street:geo:1.1608373,52.0532934
END:VEVENT
END:VCALENDAR