BEGIN:VCALENDAR
VERSION:2.0
PRODID:-//Briarbank Bar and Brewery - ECPv6.8.1//NONSGML v1.0//EN
CALSCALE:GREGORIAN
METHOD:PUBLISH
X-WR-CALNAME:Briarbank Bar and Brewery
X-ORIGINAL-URL:https://briarbank.org
X-WR-CALDESC:Events for Briarbank Bar and Brewery
REFRESH-INTERVAL;VALUE=DURATION:PT1H
X-Robots-Tag:noindex
X-PUBLISHED-TTL:PT1H
BEGIN:VTIMEZONE
TZID:Europe/London
BEGIN:DAYLIGHT
TZOFFSETFROM:+0000
TZOFFSETTO:+0100
TZNAME:BST
DTSTART:20240331T010000
END:DAYLIGHT
BEGIN:STANDARD
TZOFFSETFROM:+0100
TZOFFSETTO:+0000
TZNAME:GMT
DTSTART:20241027T010000
END:STANDARD
END:VTIMEZONE
BEGIN:VEVENT
DTSTART;TZID=Europe/London:20240310T133000
DTEND;TZID=Europe/London:20240310T163000
DTSTAMP:20260425T174844
CREATED:20220314T150021Z
LAST-MODIFIED:20220314T150021Z
UID:10000333-1710077400-1710088200@briarbank.org
SUMMARY:John Parker Sunday Jazz
DESCRIPTION:Join us for our monthly offering live jazz hosted by John Parker and his special guests each month. This month we will be joined by Nigel Virley [keyboards] Alan Clarke (Drums) Bernie Hodgkins (bass)
URL:https://briarbank.org/event/john-parker-sunday-jazz/2024-03-10/
LOCATION:Briarbank Brewery\, 70 Fore Street\, Ipswich\, Suffolk\, IP4 1LB\, United Kingdom
CATEGORIES:Sunday Jazz
ATTACH;FMTTYPE=image/jpeg:https://briarbank.org/wp-content/uploads/2020/01/Keyboard-jazz.jpg
GEO:52.0532934;1.1608373
X-APPLE-STRUCTURED-LOCATION;VALUE=URI;X-ADDRESS=Briarbank Brewery 70 Fore Street Ipswich Suffolk IP4 1LB United Kingdom;X-APPLE-RADIUS=500;X-TITLE=70 Fore Street:geo:1.1608373,52.0532934
END:VEVENT
BEGIN:VEVENT
DTSTART;TZID=Europe/London:20240317T133000
DTEND;TZID=Europe/London:20240317T163000
DTSTAMP:20260425T174844
CREATED:20240108T110435Z
LAST-MODIFIED:20240201T112018Z
UID:10000417-1710682200-1710693000@briarbank.org
SUMMARY:March Sunday Jazz
DESCRIPTION:Bernie Hodgkins is on bass for this session along with Ron West drums\, Ron’s involvement in the local music scene is vast going right back to Nick and the Nomads or the Tom Collins jazz band  a local guy who’s playing is both respected and cherished. The icing on the cake for this gig will be Mr Julian Stringle clarinet and sax. From London originally a top flight player considered to be one of the best clarinet players in Europe and we’re very lucky to have him along.     \n\n\n\n\n\n\n\n\n\n 
URL:https://briarbank.org/event/march-sunday-jazz-2/
LOCATION:Briarbank Brewery\, 70 Fore Street\, Ipswich\, Suffolk\, IP4 1LB\, United Kingdom
CATEGORIES:Live Music,Sunday Jazz
ATTACH;FMTTYPE=image/jpeg:https://briarbank.org/wp-content/uploads/2023/07/Briarbank_Sunday_Jazz.jpg
GEO:52.0532934;1.1608373
X-APPLE-STRUCTURED-LOCATION;VALUE=URI;X-ADDRESS=Briarbank Brewery 70 Fore Street Ipswich Suffolk IP4 1LB United Kingdom;X-APPLE-RADIUS=500;X-TITLE=70 Fore Street:geo:1.1608373,52.0532934
END:VEVENT
BEGIN:VEVENT
DTSTART;TZID=Europe/London:20240329T193000
DTEND;TZID=Europe/London:20240329T223000
DTSTAMP:20260425T174844
CREATED:20240201T094813Z
LAST-MODIFIED:20240201T095100Z
UID:10000424-1711740600-1711751400@briarbank.org
SUMMARY:The Three Chordettes
DESCRIPTION:The Three Chordettes return to Brirabank. Don’t miss this female vocal harmony group\, who specialises in swing. \n\n\n\n\n\n\n\n\n\n 
URL:https://briarbank.org/event/the-three-chordettes-2024/
LOCATION:Briarbank Brewery\, 70 Fore Street\, Ipswich\, Suffolk\, IP4 1LB\, United Kingdom
CATEGORIES:Live Music
ATTACH;FMTTYPE=image/jpeg:https://briarbank.org/wp-content/uploads/2023/04/TheThreeChordettes.jpg
GEO:52.0532934;1.1608373
X-APPLE-STRUCTURED-LOCATION;VALUE=URI;X-ADDRESS=Briarbank Brewery 70 Fore Street Ipswich Suffolk IP4 1LB United Kingdom;X-APPLE-RADIUS=500;X-TITLE=70 Fore Street:geo:1.1608373,52.0532934
END:VEVENT
BEGIN:VEVENT
DTSTART;TZID=Europe/London:20240330T200000
DTEND;TZID=Europe/London:20240330T223000
DTSTAMP:20260425T174845
CREATED:20230724T195652Z
LAST-MODIFIED:20240201T100935Z
UID:10000268-1711828800-1711837800@briarbank.org
SUMMARY:Jax & Co
DESCRIPTION:Join us for an evening of live music as Jax & Co bring a refreshing take on well-known Johnny Cash and June Carter hits\, as well as a few other country classics. \n\n\n\n\n\n\n\n\n\n \n \n \n \nImage credit – Steve @ little box of memories 
URL:https://briarbank.org/event/jax-co-2024/
LOCATION:Briarbank Brewery\, 70 Fore Street\, Ipswich\, Suffolk\, IP4 1LB\, United Kingdom
CATEGORIES:Live Music
ATTACH;FMTTYPE=image/jpeg:https://briarbank.org/wp-content/uploads/2023/07/JAx-Co.jpg
GEO:52.0532934;1.1608373
X-APPLE-STRUCTURED-LOCATION;VALUE=URI;X-ADDRESS=Briarbank Brewery 70 Fore Street Ipswich Suffolk IP4 1LB United Kingdom;X-APPLE-RADIUS=500;X-TITLE=70 Fore Street:geo:1.1608373,52.0532934
END:VEVENT
BEGIN:VEVENT
DTSTART;TZID=Europe/London:20240331T193000
DTEND;TZID=Europe/London:20240331T220000
DTSTAMP:20260425T174845
CREATED:20240201T103940Z
LAST-MODIFIED:20240201T103940Z
UID:10000425-1711913400-1711922400@briarbank.org
SUMMARY:Slide
DESCRIPTION:Join us with the fantastic Slide with us. Join us for an evening of non stop pop/rock ‘n roll. \n\n\n\n\n\n\n\n\n\n 
URL:https://briarbank.org/event/slide-2024/
LOCATION:Briarbank Brewery\, 70 Fore Street\, Ipswich\, Suffolk\, IP4 1LB\, United Kingdom
CATEGORIES:Live Music,Seasonal
ATTACH;FMTTYPE=image/jpeg:https://briarbank.org/wp-content/uploads/2023/03/Slide.jpg
GEO:52.0532934;1.1608373
X-APPLE-STRUCTURED-LOCATION;VALUE=URI;X-ADDRESS=Briarbank Brewery 70 Fore Street Ipswich Suffolk IP4 1LB United Kingdom;X-APPLE-RADIUS=500;X-TITLE=70 Fore Street:geo:1.1608373,52.0532934
END:VEVENT
END:VCALENDAR