BEGIN:VCALENDAR
VERSION:2.0
PRODID:-//Briarbank Bar and Brewery - ECPv6.8.1//NONSGML v1.0//EN
CALSCALE:GREGORIAN
METHOD:PUBLISH
X-WR-CALNAME:Briarbank Bar and Brewery
X-ORIGINAL-URL:https://briarbank.org
X-WR-CALDESC:Events for Briarbank Bar and Brewery
REFRESH-INTERVAL;VALUE=DURATION:PT1H
X-Robots-Tag:noindex
X-PUBLISHED-TTL:PT1H
BEGIN:VTIMEZONE
TZID:Europe/London
BEGIN:DAYLIGHT
TZOFFSETFROM:+0000
TZOFFSETTO:+0100
TZNAME:BST
DTSTART:20240331T010000
END:DAYLIGHT
BEGIN:STANDARD
TZOFFSETFROM:+0100
TZOFFSETTO:+0000
TZNAME:GMT
DTSTART:20241027T010000
END:STANDARD
END:VTIMEZONE
BEGIN:VEVENT
DTSTART;TZID=Europe/London:20240202T193000
DTEND;TZID=Europe/London:20240202T210000
DTSTAMP:20260425T190853
CREATED:20240108T111004Z
LAST-MODIFIED:20241001T132952Z
UID:10000419-1706902200-1706907600@briarbank.org
SUMMARY:Quiz Night
DESCRIPTION:Love a quiz night? Then you won’t want to miss our Briarbank Quiz Nights. Held the first Thursday of every month\, they’re a great way to put your brain power to the test! Costing £2 per person\, and with a maximum of six to a team\, get your friends together now and form your dream team. Then\, join us for a fun evening of questions and answers. \n\n\n\n\n\n\n\n\n\n 
URL:https://briarbank.org/event/quiz-night/2024-02-02/
LOCATION:Briarbank Brewery\, 70 Fore Street\, Ipswich\, Suffolk\, IP4 1LB\, United Kingdom
CATEGORIES:Quiz
ATTACH;FMTTYPE=image/jpeg:https://briarbank.org/wp-content/uploads/2023/09/quiz-scaled.jpg
GEO:52.0532934;1.1608373
X-APPLE-STRUCTURED-LOCATION;VALUE=URI;X-ADDRESS=Briarbank Brewery 70 Fore Street Ipswich Suffolk IP4 1LB United Kingdom;X-APPLE-RADIUS=500;X-TITLE=70 Fore Street:geo:1.1608373,52.0532934
END:VEVENT
BEGIN:VEVENT
DTSTART;TZID=Europe/London:20240208T193000
DTEND;TZID=Europe/London:20240208T193000
DTSTAMP:20260425T190853
CREATED:20240108T110738Z
LAST-MODIFIED:20240108T110742Z
UID:10000418-1707420600-1707420600@briarbank.org
SUMMARY:Briar Bingo
DESCRIPTION:Love bingo? Why not join us for our Briar Bingo Night? With lots of wonderful prizes to be won\, secure your table today.
URL:https://briarbank.org/event/briar-bingo-2/
LOCATION:Briarbank Brewery\, 70 Fore Street\, Ipswich\, Suffolk\, IP4 1LB\, United Kingdom
CATEGORIES:General
ATTACH;FMTTYPE=image/jpeg:https://briarbank.org/wp-content/uploads/2024/01/Bingo-scaled.jpg
GEO:52.0532934;1.1608373
X-APPLE-STRUCTURED-LOCATION;VALUE=URI;X-ADDRESS=Briarbank Brewery 70 Fore Street Ipswich Suffolk IP4 1LB United Kingdom;X-APPLE-RADIUS=500;X-TITLE=70 Fore Street:geo:1.1608373,52.0532934
END:VEVENT
BEGIN:VEVENT
DTSTART;TZID=Europe/London:20240210T133000
DTEND;TZID=Europe/London:20240210T163000
DTSTAMP:20260425T190853
CREATED:20220314T150021Z
LAST-MODIFIED:20220314T150021Z
UID:10000332-1707571800-1707582600@briarbank.org
SUMMARY:John Parker Sunday Jazz
DESCRIPTION:Join us for our monthly offering live jazz hosted by John Parker and his special guests each month. This month we will be joined by Nigel Virley [keyboards] Alan Clarke (Drums) Bernie Hodgkins (bass)
URL:https://briarbank.org/event/john-parker-sunday-jazz/2024-02-10/
LOCATION:Briarbank Brewery\, 70 Fore Street\, Ipswich\, Suffolk\, IP4 1LB\, United Kingdom
CATEGORIES:Sunday Jazz
ATTACH;FMTTYPE=image/jpeg:https://briarbank.org/wp-content/uploads/2020/01/Keyboard-jazz.jpg
GEO:52.0532934;1.1608373
X-APPLE-STRUCTURED-LOCATION;VALUE=URI;X-ADDRESS=Briarbank Brewery 70 Fore Street Ipswich Suffolk IP4 1LB United Kingdom;X-APPLE-RADIUS=500;X-TITLE=70 Fore Street:geo:1.1608373,52.0532934
END:VEVENT
BEGIN:VEVENT
DTSTART;TZID=Europe/London:20240215T193000
DTEND;TZID=Europe/London:20240215T193000
DTSTAMP:20260425T190853
CREATED:20240108T111504Z
LAST-MODIFIED:20240108T111509Z
UID:10000423-1708025400-1708025400@briarbank.org
SUMMARY:Open Mic Night
DESCRIPTION:Do you love singing\, playing an instrument\, telling jokes or reading poetry? If the answer is yes\, you won’t want to miss our Open Mic Nights hosted by Open Road Open Mic Events. Held on the third Thursday of the month\, they’re a great way to showcase your talent.\n\nSo\, note the dates\, head down to the Briarbank\, and grab the mic.
URL:https://briarbank.org/event/open-mic-night-2/
LOCATION:Briarbank Brewery\, 70 Fore Street\, Ipswich\, Suffolk\, IP4 1LB\, United Kingdom
CATEGORIES:Open Mic
ATTACH;FMTTYPE=image/jpeg:https://briarbank.org/wp-content/uploads/2023/09/Open-mic-image-scaled.jpg
GEO:52.0532934;1.1608373
X-APPLE-STRUCTURED-LOCATION;VALUE=URI;X-ADDRESS=Briarbank Brewery 70 Fore Street Ipswich Suffolk IP4 1LB United Kingdom;X-APPLE-RADIUS=500;X-TITLE=70 Fore Street:geo:1.1608373,52.0532934
END:VEVENT
BEGIN:VEVENT
DTSTART;TZID=Europe/London:20240218T133000
DTEND;TZID=Europe/London:20240218T163000
DTSTAMP:20260425T190853
CREATED:20240212T100511Z
LAST-MODIFIED:20240212T100511Z
UID:10000459-1708263000-1708273800@briarbank.org
SUMMARY:February Sunday Jazz
DESCRIPTION:We have a got a great line up for our John Parker Jazz this February. \nAlan Clarke will be on drums for this session\, Alan has played with pretty much everybody and is hugely in demand in the Southend Area for many years he played with Reg Webb’s band fusion. He also played for Nik Kershaw among others . Joining Alan will be another old friend of some forty plus years. Nigel Virley keyboard\, Nigel has written some beautiful arrangement over tunes old and some not so old but all with a jazz feel. Emma Vinyard-Jones will be on Bass\, another stalwart of the music scene in the area sometimes in theatre shows sometimes jazz but always rock solid bass playing that’s so important for this line up. \nIt sounds like a great way to spend a Sunday to us. We hope to see you there!
URL:https://briarbank.org/event/february-sunday-jazz-2/
LOCATION:Briarbank Brewery\, 70 Fore Street\, Ipswich\, Suffolk\, IP4 1LB\, United Kingdom
CATEGORIES:Live Music,Sunday Jazz
ATTACH;FMTTYPE=image/jpeg:https://briarbank.org/wp-content/uploads/2020/01/Keyboard-jazz.jpg
GEO:52.0532934;1.1608373
X-APPLE-STRUCTURED-LOCATION;VALUE=URI;X-ADDRESS=Briarbank Brewery 70 Fore Street Ipswich Suffolk IP4 1LB United Kingdom;X-APPLE-RADIUS=500;X-TITLE=70 Fore Street:geo:1.1608373,52.0532934
END:VEVENT
END:VCALENDAR