BEGIN:VCALENDAR
VERSION:2.0
PRODID:-//Briarbank Bar and Brewery - ECPv6.8.1//NONSGML v1.0//EN
CALSCALE:GREGORIAN
METHOD:PUBLISH
X-ORIGINAL-URL:https://briarbank.org
X-WR-CALDESC:Events for Briarbank Bar and Brewery
REFRESH-INTERVAL;VALUE=DURATION:PT1H
X-Robots-Tag:noindex
X-PUBLISHED-TTL:PT1H
BEGIN:VTIMEZONE
TZID:Europe/London
BEGIN:DAYLIGHT
TZOFFSETFROM:+0000
TZOFFSETTO:+0100
TZNAME:BST
DTSTART:20230326T010000
END:DAYLIGHT
BEGIN:STANDARD
TZOFFSETFROM:+0100
TZOFFSETTO:+0000
TZNAME:GMT
DTSTART:20231029T010000
END:STANDARD
BEGIN:DAYLIGHT
TZOFFSETFROM:+0000
TZOFFSETTO:+0100
TZNAME:BST
DTSTART:20240331T010000
END:DAYLIGHT
BEGIN:STANDARD
TZOFFSETFROM:+0100
TZOFFSETTO:+0000
TZNAME:GMT
DTSTART:20241027T010000
END:STANDARD
END:VTIMEZONE
BEGIN:VEVENT
DTSTART;TZID=Europe/London:20231210T133000
DTEND;TZID=Europe/London:20231210T163000
DTSTAMP:20260425T221608
CREATED:20220314T150021Z
LAST-MODIFIED:20220314T150021Z
UID:10000330-1702215000-1702225800@briarbank.org
SUMMARY:John Parker Sunday Jazz
DESCRIPTION:Join us for our monthly offering live jazz hosted by John Parker and his special guests each month. This month we will be joined by Nigel Virley [keyboards] Alan Clarke (Drums) Bernie Hodgkins (bass)
URL:https://briarbank.org/event/john-parker-sunday-jazz/2023-12-10/
LOCATION:Briarbank Brewery\, 70 Fore Street\, Ipswich\, Suffolk\, IP4 1LB\, United Kingdom
CATEGORIES:Sunday Jazz
ATTACH;FMTTYPE=image/jpeg:https://briarbank.org/wp-content/uploads/2020/01/Keyboard-jazz.jpg
GEO:52.0532934;1.1608373
X-APPLE-STRUCTURED-LOCATION;VALUE=URI;X-ADDRESS=Briarbank Brewery 70 Fore Street Ipswich Suffolk IP4 1LB United Kingdom;X-APPLE-RADIUS=500;X-TITLE=70 Fore Street:geo:1.1608373,52.0532934
END:VEVENT
BEGIN:VEVENT
DTSTART;TZID=Europe/London:20231217T133000
DTEND;TZID=Europe/London:20231217T163000
DTSTAMP:20260425T221608
CREATED:20230929T110003Z
LAST-MODIFIED:20230929T122606Z
UID:10000410-1702819800-1702830600@briarbank.org
SUMMARY:Sunday Jazz
DESCRIPTION:Live Jazz you say? We’ve got your Sunday afternoon plans covered with live music from John Parker and his supporting acts Kev Harris on drums\, Tony Sandeman on bass and Simon Hurley on guitar. \nJoin us on Sunday 17th December from 1:30pm for what is set to be a joyous afternoon. \n\n\n\n\n\n\n\n\n\n 
URL:https://briarbank.org/event/sunday-jazz-december/
LOCATION:Briarbank Brewery\, 70 Fore Street\, Ipswich\, Suffolk\, IP4 1LB\, United Kingdom
CATEGORIES:Live Music,Sunday Jazz
ATTACH;FMTTYPE=image/jpeg:https://briarbank.org/wp-content/uploads/2019/10/guitar_p60.jpg
GEO:52.0532934;1.1608373
X-APPLE-STRUCTURED-LOCATION;VALUE=URI;X-ADDRESS=Briarbank Brewery 70 Fore Street Ipswich Suffolk IP4 1LB United Kingdom;X-APPLE-RADIUS=500;X-TITLE=70 Fore Street:geo:1.1608373,52.0532934
END:VEVENT
BEGIN:VEVENT
DTSTART;TZID=Europe/London:20231221T193000
DTEND;TZID=Europe/London:20231221T193000
DTSTAMP:20260425T221608
CREATED:20230929T105124Z
LAST-MODIFIED:20230929T122528Z
UID:10000409-1703187000-1703187000@briarbank.org
SUMMARY:Open Mic Night
DESCRIPTION:Open Mic Night is back! Join us on Thursday 21st December\, hosted by Open Road Open Mic Events for another fantastic night. \nCome on down\, warm up those vocals with a hot toddy before you step on stage and belt out a festive tune\, it’s Christmas after all! \n\n\n\n\n\n\n\n\n\n 
URL:https://briarbank.org/event/open-mic-night-december/
LOCATION:Briarbank Brewery\, 70 Fore Street\, Ipswich\, Suffolk\, IP4 1LB\, United Kingdom
CATEGORIES:Open Mic
ATTACH;FMTTYPE=image/jpeg:https://briarbank.org/wp-content/uploads/2022/05/Live_Music_microphone-scaled.jpg
GEO:52.0532934;1.1608373
X-APPLE-STRUCTURED-LOCATION;VALUE=URI;X-ADDRESS=Briarbank Brewery 70 Fore Street Ipswich Suffolk IP4 1LB United Kingdom;X-APPLE-RADIUS=500;X-TITLE=70 Fore Street:geo:1.1608373,52.0532934
END:VEVENT
BEGIN:VEVENT
DTSTART;TZID=Europe/London:20231224T200000
DTEND;TZID=Europe/London:20231224T200000
DTSTAMP:20260425T221608
CREATED:20231120T095203Z
LAST-MODIFIED:20231120T095207Z
UID:10000412-1703448000-1703448000@briarbank.org
SUMMARY:JDS Acoustic Band
DESCRIPTION:Join us for a Christmas Eve of live music! Playing everything from 50s classics to modern day – join us for a fun-filled evening.
URL:https://briarbank.org/event/jds-acoustic-band/
LOCATION:Briarbank Brewery\, 70 Fore Street\, Ipswich\, Suffolk\, IP4 1LB\, United Kingdom
CATEGORIES:Live Music
ATTACH;FMTTYPE=image/png:https://briarbank.org/wp-content/uploads/2023/11/JDS-Acoustic.png
GEO:52.0532934;1.1608373
X-APPLE-STRUCTURED-LOCATION;VALUE=URI;X-ADDRESS=Briarbank Brewery 70 Fore Street Ipswich Suffolk IP4 1LB United Kingdom;X-APPLE-RADIUS=500;X-TITLE=70 Fore Street:geo:1.1608373,52.0532934
END:VEVENT
BEGIN:VEVENT
DTSTART;TZID=Europe/London:20231231T190000
DTEND;TZID=Europe/London:20240101T010000
DTSTAMP:20260425T221608
CREATED:20230907T193423Z
LAST-MODIFIED:20231231T151607Z
UID:10000402-1704049200-1704070800@briarbank.org
SUMMARY:Briarbank’s New Year’s Eve Party Featuring Slide
DESCRIPTION:  \n\n\n\nSay goodbye to 2023 and slide into 2024 with us at the Briarbank. We’ve got a great New Year’s Eve lined up. The fantastic Slide will be with us from 9pm\, playing non-stop pop\, rock ‘n roll\, and we can’t wait. \nTickets cost £15 per person\, which includes a welcome drink (selected drinks apply*). But be quick\, tickets are limited\, so make sure you get yours today. 18+ only. \nIt’s all set to be a great New Year’s Eve; we hope to see you there.The detail:Our doors will be open at 7pm\, with the last entry at 10pm. Please be aware seating is limited\, and your ticket does not guarantee a table. Tables are available on a first-come\, first-served basis. Please arrive early for the best chance of securing a seat. *Welcome drink includes either a medium wine\, a pint or a single house spirit and mixer. 
URL:https://briarbank.org/event/briarbanks-new-years-eve-party-24/
LOCATION:Briarbank Brewery\, 70 Fore Street\, Ipswich\, Suffolk\, IP4 1LB\, United Kingdom
CATEGORIES:General,Live Music,Ticketed Events
ATTACH;FMTTYPE=image/jpeg:https://briarbank.org/wp-content/uploads/2023/09/Briarbank-New-Years-Eve-2023-1.jpg
GEO:52.0532934;1.1608373
X-APPLE-STRUCTURED-LOCATION;VALUE=URI;X-ADDRESS=Briarbank Brewery 70 Fore Street Ipswich Suffolk IP4 1LB United Kingdom;X-APPLE-RADIUS=500;X-TITLE=70 Fore Street:geo:1.1608373,52.0532934
END:VEVENT
END:VCALENDAR