BEGIN:VCALENDAR
VERSION:2.0
PRODID:-//Briarbank Bar and Brewery - ECPv6.8.1//NONSGML v1.0//EN
CALSCALE:GREGORIAN
METHOD:PUBLISH
X-ORIGINAL-URL:https://briarbank.org
X-WR-CALDESC:Events for Briarbank Bar and Brewery
REFRESH-INTERVAL;VALUE=DURATION:PT1H
X-Robots-Tag:noindex
X-PUBLISHED-TTL:PT1H
BEGIN:VTIMEZONE
TZID:Europe/London
BEGIN:DAYLIGHT
TZOFFSETFROM:+0000
TZOFFSETTO:+0100
TZNAME:BST
DTSTART:20240331T010000
END:DAYLIGHT
BEGIN:STANDARD
TZOFFSETFROM:+0100
TZOFFSETTO:+0000
TZNAME:GMT
DTSTART:20241027T010000
END:STANDARD
END:VTIMEZONE
BEGIN:VEVENT
DTSTART;TZID=Europe/London:20240911T170000
DTEND;TZID=Europe/London:20240915T220000
DTSTAMP:20260423T134851
CREATED:20240624T111415Z
LAST-MODIFIED:20240624T111415Z
UID:10000463-1726074000-1726437600@briarbank.org
SUMMARY:September Gin and Rum Festival
DESCRIPTION:Our Gin and Rum Festival is back for September\, and we can’t wait. \nKicking off on Wednesday 11 September\, we’ll be showcasing over 40+ gins and rums in our outside bar\, and have live music throughout the weekend too. \nJoining us will be: \n\nFriday 13 September: 8:00pm – Redemption\nSaturday 14 September: 8:00pm – Soul Riot\nSunday 15 September: 7:30pm – The Three Chordettes\n\nDon’t forget\, our upstairs tap room will be open\, serving our usual array of craft beers\, wines\, spirits and soft drinks. \nSo\, why not note the dates\, gather your friends and join us for our September Gin and Rum Festival?
URL:https://briarbank.org/event/september-gin-and-rum-festival-2024/
LOCATION:Briarbank Brewery\, 70 Fore Street\, Ipswich\, Suffolk\, IP4 1LB\, United Kingdom
CATEGORIES:General,Live Music,Seasonal
ATTACH;FMTTYPE=image/jpeg:https://briarbank.org/wp-content/uploads/2024/06/Briarbank-Gin-Rum-Festival_September.jpg
GEO:52.0532934;1.1608373
X-APPLE-STRUCTURED-LOCATION;VALUE=URI;X-ADDRESS=Briarbank Brewery 70 Fore Street Ipswich Suffolk IP4 1LB United Kingdom;X-APPLE-RADIUS=500;X-TITLE=70 Fore Street:geo:1.1608373,52.0532934
END:VEVENT
BEGIN:VEVENT
DTSTART;TZID=Europe/London:20240915T133000
DTEND;TZID=Europe/London:20240915T163000
DTSTAMP:20260423T134851
CREATED:20240910T080011Z
LAST-MODIFIED:20240910T080813Z
UID:10000469-1726407000-1726417800@briarbank.org
SUMMARY:September Sunday Jazz
DESCRIPTION:Love jazz\, then you’ll love our monthly jazz afternoon on Sunday 15 September. Joining John Parker will be Sophie Alloway on the drums\, Nigel Virley on the keyboard\, Zak Barrett on the saxophone and Bernie Hodgkins on bass. \nIt starts at 1:30pm. We’ll see you there!
URL:https://briarbank.org/event/sunday-jazz-2024-september/
LOCATION:Briarbank Brewery\, 70 Fore Street\, Ipswich\, Suffolk\, IP4 1LB\, United Kingdom
CATEGORIES:Live Music,Sunday Jazz
ATTACH;FMTTYPE=image/jpeg:https://briarbank.org/wp-content/uploads/2023/07/Briarbank_Sunday_Jazz.jpg
GEO:52.0532934;1.1608373
X-APPLE-STRUCTURED-LOCATION;VALUE=URI;X-ADDRESS=Briarbank Brewery 70 Fore Street Ipswich Suffolk IP4 1LB United Kingdom;X-APPLE-RADIUS=500;X-TITLE=70 Fore Street:geo:1.1608373,52.0532934
END:VEVENT
BEGIN:VEVENT
DTSTART;TZID=Europe/London:20240915T180000
DTEND;TZID=Europe/London:20240915T180000
DTSTAMP:20260423T134851
CREATED:20240201T202751Z
LAST-MODIFIED:20240910T121216Z
UID:10000458-1726423200-1726423200@briarbank.org
SUMMARY:The Three Chordettes
DESCRIPTION:Miss Molly Rose\, Sarah Beth and Tabitha Lu specialise in all things vocally vintage\, whether that be 40’s classics iconising the brilliant Andrew Sisters\, paying homage to the 50’s or having fun with modern music by adding vintage twist! \n 
URL:https://briarbank.org/event/the-three-chordettes-2024-2-2/
LOCATION:Briarbank Brewery\, 70 Fore Street\, Ipswich\, Suffolk\, IP4 1LB\, United Kingdom
CATEGORIES:Live Music
ATTACH;FMTTYPE=image/jpeg:https://briarbank.org/wp-content/uploads/2024/02/Three-Chordettes-3.jpg
GEO:52.0532934;1.1608373
X-APPLE-STRUCTURED-LOCATION;VALUE=URI;X-ADDRESS=Briarbank Brewery 70 Fore Street Ipswich Suffolk IP4 1LB United Kingdom;X-APPLE-RADIUS=500;X-TITLE=70 Fore Street:geo:1.1608373,52.0532934
END:VEVENT
END:VCALENDAR