BEGIN:VCALENDAR
VERSION:2.0
PRODID:-//Briarbank Bar and Brewery - ECPv6.8.1//NONSGML v1.0//EN
CALSCALE:GREGORIAN
METHOD:PUBLISH
X-ORIGINAL-URL:https://briarbank.org
X-WR-CALDESC:Events for Briarbank Bar and Brewery
REFRESH-INTERVAL;VALUE=DURATION:PT1H
X-Robots-Tag:noindex
X-PUBLISHED-TTL:PT1H
BEGIN:VTIMEZONE
TZID:Europe/London
BEGIN:DAYLIGHT
TZOFFSETFROM:+0000
TZOFFSETTO:+0100
TZNAME:BST
DTSTART:20240331T010000
END:DAYLIGHT
BEGIN:STANDARD
TZOFFSETFROM:+0100
TZOFFSETTO:+0000
TZNAME:GMT
DTSTART:20241027T010000
END:STANDARD
END:VTIMEZONE
BEGIN:VEVENT
DTSTART;TZID=Europe/London:20240821T160000
DTEND;TZID=Europe/London:20240826T223000
DTSTAMP:20260425T111837
CREATED:20240624T111044Z
LAST-MODIFIED:20240624T111044Z
UID:10000462-1724256000-1724711400@briarbank.org
SUMMARY:2024 Summer Beer Festival
DESCRIPTION:After a great Spring Beer Festival\, preparations for our August\, Summer Beer Festival are well underway./ \nTaking place at the Briarbank between Wednesday 21 August  and Monday 26 August 2024\, we’ll be showcasing over 40+ beers and ciders from local and not so local breweries.Like with any other Briarbank festival\, we will have live music too. Joining us will be: \n\nFriday 23 August: 8:30pm – Skyraiders\nSaturday 24 August: 8:30pm – The Kicks\nSunday 25 August: 8pm – The Dead Legs\n\nThe festival will take place in our outside bar. Our upstairs tap room will also be serving a range of other drinks\, including soft drinks\, wines and spirits. Plus\, if you’re feeling peckish\, you’ll be able to order from our food menu until 9pm. So\, why not pop the dates in your diary\, gather your friends and come and join us for our Summer Beer Festival? 
URL:https://briarbank.org/event/2024-summer-beer-festival/
LOCATION:Briarbank Brewery\, 70 Fore Street\, Ipswich\, Suffolk\, IP4 1LB\, United Kingdom
CATEGORIES:General
ATTACH;FMTTYPE=image/jpeg:https://briarbank.org/wp-content/uploads/2024/06/Briarbank-Summer-Beer-Festival.jpg
GEO:52.0532934;1.1608373
X-APPLE-STRUCTURED-LOCATION;VALUE=URI;X-ADDRESS=Briarbank Brewery 70 Fore Street Ipswich Suffolk IP4 1LB United Kingdom;X-APPLE-RADIUS=500;X-TITLE=70 Fore Street:geo:1.1608373,52.0532934
END:VEVENT
BEGIN:VEVENT
DTSTART;TZID=Europe/London:20240825T200000
DTEND;TZID=Europe/London:20240825T230000
DTSTAMP:20260425T111837
CREATED:20240201T161431Z
LAST-MODIFIED:20240201T161431Z
UID:10000454-1724616000-1724626800@briarbank.org
SUMMARY:The Dead Legs
DESCRIPTION:The Dead Legs are back at the Briarbank as part of our August Beer Festival. Join us at 8:00pm on Saturday 25 August\, for an evening of live music as this energetic power trio covers a wide range of music from rock\, pop\, indie and the 80s. \n\n\n\n\n\n\n\n\n\n 
URL:https://briarbank.org/event/the-dead-legs-2/
LOCATION:Briarbank Brewery\, 70 Fore Street\, Ipswich\, Suffolk\, IP4 1LB\, United Kingdom
CATEGORIES:Live Music
ATTACH;FMTTYPE=image/jpeg:https://briarbank.org/wp-content/uploads/2023/07/The_Dead_Legs.jpg
GEO:52.0532934;1.1608373
X-APPLE-STRUCTURED-LOCATION;VALUE=URI;X-ADDRESS=Briarbank Brewery 70 Fore Street Ipswich Suffolk IP4 1LB United Kingdom;X-APPLE-RADIUS=500;X-TITLE=70 Fore Street:geo:1.1608373,52.0532934
END:VEVENT
END:VCALENDAR