BEGIN:VCALENDAR
VERSION:2.0
PRODID:-//Briarbank Bar and Brewery - ECPv6.8.1//NONSGML v1.0//EN
CALSCALE:GREGORIAN
METHOD:PUBLISH
X-ORIGINAL-URL:https://briarbank.org
X-WR-CALDESC:Events for Briarbank Bar and Brewery
REFRESH-INTERVAL;VALUE=DURATION:PT1H
X-Robots-Tag:noindex
X-PUBLISHED-TTL:PT1H
BEGIN:VTIMEZONE
TZID:Europe/London
BEGIN:DAYLIGHT
TZOFFSETFROM:+0000
TZOFFSETTO:+0100
TZNAME:BST
DTSTART:20240331T010000
END:DAYLIGHT
BEGIN:STANDARD
TZOFFSETFROM:+0100
TZOFFSETTO:+0000
TZNAME:GMT
DTSTART:20241027T010000
END:STANDARD
END:VTIMEZONE
BEGIN:VEVENT
DTSTART;TZID=Europe/London:20240810T133000
DTEND;TZID=Europe/London:20240810T163000
DTSTAMP:20260425T113515
CREATED:20220314T150021Z
LAST-MODIFIED:20220314T150021Z
UID:10000338-1723296600-1723307400@briarbank.org
SUMMARY:John Parker Sunday Jazz
DESCRIPTION:Join us for our monthly offering live jazz hosted by John Parker and his special guests each month. This month we will be joined by Nigel Virley [keyboards] Alan Clarke (Drums) Bernie Hodgkins (bass)
URL:https://briarbank.org/event/john-parker-sunday-jazz/2024-08-10/
LOCATION:Briarbank Brewery\, 70 Fore Street\, Ipswich\, Suffolk\, IP4 1LB\, United Kingdom
CATEGORIES:Sunday Jazz
ATTACH;FMTTYPE=image/jpeg:https://briarbank.org/wp-content/uploads/2020/01/Keyboard-jazz.jpg
GEO:52.0532934;1.1608373
X-APPLE-STRUCTURED-LOCATION;VALUE=URI;X-ADDRESS=Briarbank Brewery 70 Fore Street Ipswich Suffolk IP4 1LB United Kingdom;X-APPLE-RADIUS=500;X-TITLE=70 Fore Street:geo:1.1608373,52.0532934
END:VEVENT
END:VCALENDAR