BEGIN:VCALENDAR
VERSION:2.0
PRODID:-//Briarbank Bar and Brewery - ECPv6.8.1//NONSGML v1.0//EN
CALSCALE:GREGORIAN
METHOD:PUBLISH
X-WR-CALNAME:Briarbank Bar and Brewery
X-ORIGINAL-URL:https://briarbank.org
X-WR-CALDESC:Events for Briarbank Bar and Brewery
REFRESH-INTERVAL;VALUE=DURATION:PT1H
X-Robots-Tag:noindex
X-PUBLISHED-TTL:PT1H
BEGIN:VTIMEZONE
TZID:Europe/London
BEGIN:DAYLIGHT
TZOFFSETFROM:+0000
TZOFFSETTO:+0100
TZNAME:BST
DTSTART:20240331T010000
END:DAYLIGHT
BEGIN:STANDARD
TZOFFSETFROM:+0100
TZOFFSETTO:+0000
TZNAME:GMT
DTSTART:20241027T010000
END:STANDARD
END:VTIMEZONE
BEGIN:VEVENT
DTSTART;TZID=Europe/London:20240804T180000
DTEND;TZID=Europe/London:20240804T203000
DTSTAMP:20260425T113446
CREATED:20240201T154008Z
LAST-MODIFIED:20240201T154008Z
UID:10000449-1722794400-1722803400@briarbank.org
SUMMARY:The Three Chordettes
DESCRIPTION:What Ho! We are The Three Chordettes and we love to Boogie Woogie!  \n  \nMiss Molly Rose\, Sarah Beth and Tabitha Lu specialise in all things vocally vintage\, whether that be 40’s classics iconising the brilliant Andrew Sisters\, paying homage to the 50’s or having fun with modern music by adding vintage twist! \n  \nWe can’t wait to sing and the dance the night away with you all! \n\n\n\n\n\n\n\n\n\n 
URL:https://briarbank.org/event/the-three-chordettes-2024-2/
LOCATION:Briarbank Brewery\, 70 Fore Street\, Ipswich\, Suffolk\, IP4 1LB\, United Kingdom
CATEGORIES:Live Music
ATTACH;FMTTYPE=image/jpeg:https://briarbank.org/wp-content/uploads/2024/02/Three-Chordettes-3.jpg
GEO:52.0532934;1.1608373
X-APPLE-STRUCTURED-LOCATION;VALUE=URI;X-ADDRESS=Briarbank Brewery 70 Fore Street Ipswich Suffolk IP4 1LB United Kingdom;X-APPLE-RADIUS=500;X-TITLE=70 Fore Street:geo:1.1608373,52.0532934
END:VEVENT
END:VCALENDAR