BEGIN:VCALENDAR
VERSION:2.0
PRODID:-//Briarbank Bar and Brewery - ECPv6.8.1//NONSGML v1.0//EN
CALSCALE:GREGORIAN
METHOD:PUBLISH
X-WR-CALNAME:Briarbank Bar and Brewery
X-ORIGINAL-URL:https://briarbank.org
X-WR-CALDESC:Events for Briarbank Bar and Brewery
REFRESH-INTERVAL;VALUE=DURATION:PT1H
X-Robots-Tag:noindex
X-PUBLISHED-TTL:PT1H
BEGIN:VTIMEZONE
TZID:Europe/London
BEGIN:DAYLIGHT
TZOFFSETFROM:+0000
TZOFFSETTO:+0100
TZNAME:BST
DTSTART:20240331T010000
END:DAYLIGHT
BEGIN:STANDARD
TZOFFSETFROM:+0100
TZOFFSETTO:+0000
TZNAME:GMT
DTSTART:20241027T010000
END:STANDARD
END:VTIMEZONE
BEGIN:VEVENT
DTSTART;TZID=Europe/London:20240121T133000
DTEND;TZID=Europe/London:20240121T133000
DTSTAMP:20260425T221251
CREATED:20240108T105729Z
LAST-MODIFIED:20240108T105806Z
UID:10000416-1705843800-1705843800@briarbank.org
SUMMARY:January Sunday Jazz
DESCRIPTION:Back for 2024 is our John Parker Sunday Jazz afternoons and we can’t wait. January sees the first visit to the Briarbank for Natasha Hodge\, a stunning vocalist from Snape. She’s been on the circuit for a while and offers a refreshing variety of tunes to cater for most palettes\, not just your average jazz singer. A dear friend\, Tony Radford\, will play sax up front with Natasha. Tony has been a huge figure on the local jazz scene for many years\, decades\, in fact\, so look forward to an afternoon of fun and meaningful songs with Bernie Hodgkins on bass; Bernie has provided the bedrock for many a band in the area for quite a few years\, too. So\, save the date\, grab your friends and head to the Briarbank for a chilled Sunday afternoon of live jazz. \n\n\n\n\n\n\n\n\n\n 
URL:https://briarbank.org/event/january-sunday-jazz-3/
LOCATION:Briarbank Brewery\, 70 Fore Street\, Ipswich\, Suffolk\, IP4 1LB\, United Kingdom
CATEGORIES:Live Music,Sunday Jazz
ATTACH;FMTTYPE=image/jpeg:https://briarbank.org/wp-content/uploads/2018/02/briarbank_supplied_image_70_031.jpg
GEO:52.0532934;1.1608373
X-APPLE-STRUCTURED-LOCATION;VALUE=URI;X-ADDRESS=Briarbank Brewery 70 Fore Street Ipswich Suffolk IP4 1LB United Kingdom;X-APPLE-RADIUS=500;X-TITLE=70 Fore Street:geo:1.1608373,52.0532934
END:VEVENT
END:VCALENDAR